BEGIN:VCALENDAR
VERSION:2.0
PRODID:-//Tukios.com/
BEGIN:VEVENT
UID:e5d50107-6e55-422d-999f-05f7c1a17cd5@www.moorefh.com
DTSTAMP:20260424T004148Z
DTSTART:20260428T183000Z
DTEND:20260428T193000Z
SUMMARY:Graveside Service
DESCRIPTION:
URL:https://www.moorefh.com/obituaries/sylvia-bosserman
LOCATION: 7835 W Ingle Rd  Covington OH 45318
GEO:40.130989;-84.3521099
END:VEVENT
END:VCALENDAR