BEGIN:VCALENDAR
VERSION:2.0
PRODID:-//Tukios.com/
BEGIN:VEVENT
UID:6a28cfd3-a93f-472b-ba98-73f89e9a0762@www.moorefh.com
DTSTAMP:20260424T004612Z
DTSTART:20260428T160000Z
DTEND:20260428T180000Z
SUMMARY:Visitation
DESCRIPTION:
URL:https://www.moorefh.com/obituaries/sylvia-bosserman
LOCATION: 10 S. High St.  Covington OH 45318
GEO:40.1170582;-84.3543282
END:VEVENT
END:VCALENDAR